BEGIN:VCALENDAR
VERSION:2.0
PRODID:-//Barber-Scotia College - ECPv6.15.18//NONSGML v1.0//EN
CALSCALE:GREGORIAN
METHOD:PUBLISH
X-WR-CALNAME:Barber-Scotia College
X-ORIGINAL-URL:https://b-sc.edu
X-WR-CALDESC:Events for Barber-Scotia College
REFRESH-INTERVAL;VALUE=DURATION:PT1H
X-Robots-Tag:noindex
X-PUBLISHED-TTL:PT1H
BEGIN:VTIMEZONE
TZID:America/New_York
BEGIN:DAYLIGHT
TZOFFSETFROM:-0500
TZOFFSETTO:-0400
TZNAME:EDT
DTSTART:20250309T070000
END:DAYLIGHT
BEGIN:STANDARD
TZOFFSETFROM:-0400
TZOFFSETTO:-0500
TZNAME:EST
DTSTART:20251102T060000
END:STANDARD
BEGIN:DAYLIGHT
TZOFFSETFROM:-0500
TZOFFSETTO:-0400
TZNAME:EDT
DTSTART:20260308T070000
END:DAYLIGHT
BEGIN:STANDARD
TZOFFSETFROM:-0400
TZOFFSETTO:-0500
TZNAME:EST
DTSTART:20261101T060000
END:STANDARD
BEGIN:DAYLIGHT
TZOFFSETFROM:-0500
TZOFFSETTO:-0400
TZNAME:EDT
DTSTART:20270314T070000
END:DAYLIGHT
BEGIN:STANDARD
TZOFFSETFROM:-0400
TZOFFSETTO:-0500
TZNAME:EST
DTSTART:20271107T060000
END:STANDARD
END:VTIMEZONE
BEGIN:VEVENT
DTSTART;TZID=America/New_York:20260425T190000
DTEND;TZID=America/New_York:20260425T190000
DTSTAMP:20260423T190145
CREATED:20260327T152553Z
LAST-MODIFIED:20260423T161753Z
UID:6539-1777143600-1777143600@b-sc.edu
SUMMARY:Anniversary Gala
DESCRIPTION:Celebrating the 20th Anniversary of the 1867 Society \nJoin alumni and supporters for a weekend of fellowship and purpose as we commemorate two decades of service and impact.
URL:https://b-sc.edu/event/anniversary-gala/
LOCATION:Barber-Scotia College\, 145 Cabarrus Ave W\, Concord\, NC\, 28025\, United States
ATTACH;FMTTYPE=image/jpeg:https://b-sc.edu/wp-content/uploads/2026/03/gb7237844de229b82cda8418bfeb74e299c74fab0111acf0832402ed18645b3985d82c6d8646e58cc328584584fb1fc9e1177ed8f7ccf57157e10a3a13cbc487b_1280-2673508.jpg
ORGANIZER;CN="Alumni Relations":MAILTO:alumnirelations@b-sc.edu
END:VEVENT
BEGIN:VEVENT
DTSTART;TZID=America/New_York:20260424T150000
DTEND;TZID=America/New_York:20260424T180000
DTSTAMP:20260423T190145
CREATED:20260327T145043Z
LAST-MODIFIED:20260423T161710Z
UID:6532-1777042800-1777053600@b-sc.edu
SUMMARY:Alumni Weekend Luau
DESCRIPTION:Celebrating the 20th Anniversary of the 1867 Society \nJoin alumni and supporters for a weekend of fellowship and purpose as we commemorate two decades of service and impact.
URL:https://b-sc.edu/event/alumni-weekend-luau/
LOCATION:Barber-Scotia College\, 145 Cabarrus Ave W\, Concord\, NC\, 28025\, United States
ATTACH;FMTTYPE=image/jpeg:https://b-sc.edu/wp-content/uploads/2026/03/pexels-photo-5728395-5728395.jpg
ORGANIZER;CN="Alumni Relations":MAILTO:alumnirelations@b-sc.edu
END:VEVENT
END:VCALENDAR